BEGIN:VCALENDAR
VERSION:2.0
PRODID:-// - ECPv6.3.7//NONSGML v1.0//EN
CALSCALE:GREGORIAN
METHOD:PUBLISH
X-ORIGINAL-URL:https://new.westlothianclarion.co.uk
X-WR-CALDESC:Events for 
REFRESH-INTERVAL;VALUE=DURATION:PT1H
X-Robots-Tag:noindex
X-PUBLISHED-TTL:PT1H
BEGIN:VTIMEZONE
TZID:UTC
BEGIN:STANDARD
TZOFFSETFROM:+0000
TZOFFSETTO:+0000
TZNAME:UTC
DTSTART:20220101T000000
END:STANDARD
END:VTIMEZONE
BEGIN:VEVENT
DTSTART;TZID=UTC:20220730T083000
DTEND;TZID=UTC:20220730T120000
DTSTAMP:20260425T115949
CREATED:20220628T121835Z
LAST-MODIFIED:20220630T113557Z
UID:2146-1659169800-1659182400@new.westlothianclarion.co.uk
SUMMARY:Club Ride - East Calder
DESCRIPTION:Douglas – 77 miles https://www.mapometer.com/cycling/route_5381280.html
URL:https://new.westlothianclarion.co.uk/event/club-ride-east-calder-4
LOCATION:Xcite East Calder\, 20 Raw Holdings\, East Calder\, West Lothian\, EH53 0JN\, United Kingdom
ATTACH;FMTTYPE=image/jpeg:https://new.westlothianclarion.co.uk/wp-content/uploads/2021/11/ec.jpg
END:VEVENT
BEGIN:VEVENT
DTSTART;TZID=UTC:20220730T090000
DTEND;TZID=UTC:20220730T120000
DTSTAMP:20260425T115949
CREATED:20220628T115948Z
LAST-MODIFIED:20220628T115949Z
UID:2123-1659171600-1659182400@new.westlothianclarion.co.uk
SUMMARY:Club Run - Linlithgow
DESCRIPTION:Route – LLC: 9:00am: Greengairs 40 miles https://gb.mapometer.com/cycling/route_5365487.html
URL:https://new.westlothianclarion.co.uk/event/club-run-linlithgow-30
LOCATION:Xcite Linlithgow\, McGinley Way\, Linlithgow\, West Lothian\, EH49 6SQ\, United Kingdom
ATTACH;FMTTYPE=image/jpeg:https://new.westlothianclarion.co.uk/wp-content/uploads/2021/11/lin.jpg
END:VEVENT
BEGIN:VEVENT
DTSTART;TZID=UTC:20220730T090000
DTEND;TZID=UTC:20220730T120000
DTSTAMP:20260425T115949
CREATED:20220628T121315Z
LAST-MODIFIED:20220728T164235Z
UID:2138-1659171600-1659182400@new.westlothianclarion.co.uk
SUMMARY:Cruise Ride - Linlithgow
DESCRIPTION:25 miles – Claire Dowens leadinghttps://www.strava.com/routes/2986616056905151348
URL:https://new.westlothianclarion.co.uk/event/cruise-ride-linlithgow-15
LOCATION:Xcite Linlithgow\, McGinley Way\, Linlithgow\, West Lothian\, EH49 6SQ\, United Kingdom
ATTACH;FMTTYPE=image/jpeg:https://new.westlothianclarion.co.uk/wp-content/uploads/2021/11/cruise.jpg
END:VEVENT
END:VCALENDAR