BEGIN:VCALENDAR
VERSION:2.0
PRODID:-// - ECPv6.3.7//NONSGML v1.0//EN
CALSCALE:GREGORIAN
METHOD:PUBLISH
X-ORIGINAL-URL:https://new.westlothianclarion.co.uk
X-WR-CALDESC:Events for 
REFRESH-INTERVAL;VALUE=DURATION:PT1H
X-Robots-Tag:noindex
X-PUBLISHED-TTL:PT1H
BEGIN:VTIMEZONE
TZID:UTC
BEGIN:STANDARD
TZOFFSETFROM:+0000
TZOFFSETTO:+0000
TZNAME:UTC
DTSTART:20230101T000000
END:STANDARD
END:VTIMEZONE
BEGIN:VEVENT
DTSTART;TZID=UTC:20230204T090000
DTEND;TZID=UTC:20230204T120000
DTSTAMP:20260423T091220
CREATED:20230127T084559Z
LAST-MODIFIED:20230203T104929Z
UID:2560-1675501200-1675512000@new.westlothianclarion.co.uk
SUMMARY:Club Run - East Calder
DESCRIPTION:Biggar 58 miles. https://gb.mapometer.com/cycling/route_4828476.html
URL:https://new.westlothianclarion.co.uk/event/club-run-east-calder-2
LOCATION:Xcite East Calder\, 20 Raw Holdings\, East Calder\, West Lothian\, EH53 0JN\, United Kingdom
ATTACH;FMTTYPE=image/jpeg:https://new.westlothianclarion.co.uk/wp-content/uploads/2021/11/ec.jpg
END:VEVENT
BEGIN:VEVENT
DTSTART;TZID=UTC:20230204T090000
DTEND;TZID=UTC:20230204T120000
DTSTAMP:20260423T091220
CREATED:20230127T084733Z
LAST-MODIFIED:20230203T103904Z
UID:2562-1675501200-1675512000@new.westlothianclarion.co.uk
SUMMARY:Club Run - Linlithgow
DESCRIPTION:Tak Ma Doon 46 miles. \n\n\n\nhttp://gb.mapometer.com/cycling/route_3863467
URL:https://new.westlothianclarion.co.uk/event/club-run-linlithgow-2
LOCATION:Xcite Linlithgow\, McGinley Way\, Linlithgow\, West Lothian\, EH49 6SQ\, United Kingdom
ATTACH;FMTTYPE=image/jpeg:https://new.westlothianclarion.co.uk/wp-content/uploads/2021/11/lin.jpg
END:VEVENT
END:VCALENDAR