BEGIN:VCALENDAR
VERSION:2.0
PRODID:-// - ECPv6.3.7//NONSGML v1.0//EN
CALSCALE:GREGORIAN
METHOD:PUBLISH
X-ORIGINAL-URL:https://new.westlothianclarion.co.uk
X-WR-CALDESC:Events for 
REFRESH-INTERVAL;VALUE=DURATION:PT1H
X-Robots-Tag:noindex
X-PUBLISHED-TTL:PT1H
BEGIN:VTIMEZONE
TZID:UTC
BEGIN:STANDARD
TZOFFSETFROM:+0000
TZOFFSETTO:+0000
TZNAME:UTC
DTSTART:20230101T000000
END:STANDARD
END:VTIMEZONE
BEGIN:VEVENT
DTSTART;TZID=UTC:20230401T090000
DTEND;TZID=UTC:20230401T120000
DTSTAMP:20260419T124732
CREATED:20230301T094411Z
LAST-MODIFIED:20230301T094413Z
UID:2667-1680339600-1680350400@new.westlothianclarion.co.uk
SUMMARY:Cruise Ride - Bathgate
DESCRIPTION:Join us for a led cruise around the roads of West Lothian. No one gets left behind\, typically these rides average about 20kph (or 12mph). \n\n\n\nAs you will know\, West Lothian is not very flat\, but we don’t seek extra hills and always wait at the top of any hill to regroup. \n\n\n\nIts always great to meet new riders\, first ride is free and we hope you want to join the club (£25/year) and join us more regularly after that.
URL:https://new.westlothianclarion.co.uk/event/cruise-ride-bathgate-7
LOCATION:Xcite Bathgate\, Balbardie Park\, Bathgate\, West Lothian\, EH48 4LA\, United Kingdom
ATTACH;FMTTYPE=image/jpeg:https://new.westlothianclarion.co.uk/wp-content/uploads/2021/11/cruise.jpg
END:VEVENT
BEGIN:VEVENT
DTSTART;TZID=UTC:20230401T090000
DTEND;TZID=UTC:20230401T120000
DTSTAMP:20260419T124732
CREATED:20230317T085015Z
LAST-MODIFIED:20230317T085101Z
UID:2696-1680339600-1680350400@new.westlothianclarion.co.uk
SUMMARY:Inbetweeners Ride - Linlithgow
DESCRIPTION:Join us for a led ‘Inbetweeners’ group ride around around quiet local lanes. No one gets left behind\, typically these rides are for folk wanting to cycle a bit longer and at a faster pace than the Cruise rides: 40 miles at 15mph. \n\n\n\nAs you will know\, West Lothian is not very flat\, but we don’t seek extra hills and always wait at the top of any hill to regroup. \n\n\n\nIts always great to meet new riders\, first ride is free and we hope you want to join the club (£25/year) and join us more regularly after that.
URL:https://new.westlothianclarion.co.uk/event/inbetweeners-ride-3
LOCATION:Xcite Linlithgow\, McGinley Way\, Linlithgow\, West Lothian\, EH49 6SQ\, United Kingdom
ATTACH;FMTTYPE=image/png:https://new.westlothianclarion.co.uk/wp-content/uploads/2022/06/The_Inbetweeners_cast.png
END:VEVENT
BEGIN:VEVENT
DTSTART;TZID=UTC:20230401T090000
DTEND;TZID=UTC:20230401T120000
DTSTAMP:20260419T124732
CREATED:20230317T085159Z
LAST-MODIFIED:20230327T122555Z
UID:2699-1680339600-1680350400@new.westlothianclarion.co.uk
SUMMARY:Club Ride - Linlithgow
DESCRIPTION:Extended Two Bridges.  49 miles. \n\n\n\nhttps://gb.mapometer.com/cycling/route_5354779.html
URL:https://new.westlothianclarion.co.uk/event/club-ride-linlithgow-25
LOCATION:Xcite Linlithgow\, McGinley Way\, Linlithgow\, West Lothian\, EH49 6SQ\, United Kingdom
ATTACH;FMTTYPE=image/jpeg:https://new.westlothianclarion.co.uk/wp-content/uploads/2021/11/lin.jpg
END:VEVENT
BEGIN:VEVENT
DTSTART;TZID=UTC:20230401T090000
DTEND;TZID=UTC:20230401T120000
DTSTAMP:20260419T124732
CREATED:20230317T085259Z
LAST-MODIFIED:20230331T073030Z
UID:2701-1680339600-1680350400@new.westlothianclarion.co.uk
SUMMARY:Club Ride - East Calder
DESCRIPTION:Aberdour – 58 miles –  \n\n\n\nhttps://www.mapometer.com/cycling/route_2959963.html
URL:https://new.westlothianclarion.co.uk/event/club-ride-east-calder-28
LOCATION:Xcite East Calder\, 20 Raw Holdings\, East Calder\, West Lothian\, EH53 0JN\, United Kingdom
ATTACH;FMTTYPE=image/jpeg:https://new.westlothianclarion.co.uk/wp-content/uploads/2021/11/ec.jpg
END:VEVENT
END:VCALENDAR