BEGIN:VCALENDAR
VERSION:2.0
PRODID:-// - ECPv6.3.7//NONSGML v1.0//EN
CALSCALE:GREGORIAN
METHOD:PUBLISH
X-ORIGINAL-URL:https://new.westlothianclarion.co.uk
X-WR-CALDESC:Events for 
REFRESH-INTERVAL;VALUE=DURATION:PT1H
X-Robots-Tag:noindex
X-PUBLISHED-TTL:PT1H
BEGIN:VTIMEZONE
TZID:UTC
BEGIN:STANDARD
TZOFFSETFROM:+0000
TZOFFSETTO:+0000
TZNAME:UTC
DTSTART:20230101T000000
END:STANDARD
END:VTIMEZONE
BEGIN:VEVENT
DTSTART;TZID=UTC:20230128T090000
DTEND;TZID=UTC:20230128T120000
DTSTAMP:20260421T100106
CREATED:20230127T083936Z
LAST-MODIFIED:20230127T083951Z
UID:2552-1674896400-1674907200@new.westlothianclarion.co.uk
SUMMARY:Club Run - East Calder
DESCRIPTION:Lanark Loch – 55 miles https://www.mapometer.com/cycling/route_5416186.html
URL:https://new.westlothianclarion.co.uk/event/club-run-east-calder
LOCATION:Xcite East Calder\, 20 Raw Holdings\, East Calder\, West Lothian\, EH53 0JN\, United Kingdom
ATTACH;FMTTYPE=image/jpeg:https://new.westlothianclarion.co.uk/wp-content/uploads/2021/11/ec.jpg
END:VEVENT
BEGIN:VEVENT
DTSTART;TZID=UTC:20230128T090000
DTEND;TZID=UTC:20230128T120000
DTSTAMP:20260421T100106
CREATED:20230127T084111Z
LAST-MODIFIED:20230127T084122Z
UID:2554-1674896400-1674907200@new.westlothianclarion.co.uk
SUMMARY:Club Run - Linlithgow
DESCRIPTION:Alps to Sea – 46 miles https://www.mapometer.com/cycling/route_4840016.html
URL:https://new.westlothianclarion.co.uk/event/club-run-linlithgow
LOCATION:Xcite Linlithgow\, McGinley Way\, Linlithgow\, West Lothian\, EH49 6SQ\, United Kingdom
ATTACH;FMTTYPE=image/jpeg:https://new.westlothianclarion.co.uk/wp-content/uploads/2021/11/lin.jpg
END:VEVENT
BEGIN:VEVENT
DTSTART;TZID=UTC:20230129T080000
DTEND;TZID=UTC:20230129T170000
DTSTAMP:20260421T100106
CREATED:20221111T104723Z
LAST-MODIFIED:20221111T105011Z
UID:2472-1674979200-1675011600@new.westlothianclarion.co.uk
SUMMARY:Linlithgow Cross
DESCRIPTION:A heads up that on Sunday January 29th the Linlithgow Cross CX event hosted by the youth section will be happening again\, and will include:- \n\n\n\n Youth races \n\n\n\n Free coaching session for age 16+ \n\n\n\n Mixed taster race \n\n\n\n Superquaich round 2 \n\n\n\n Scottish Student CX championships \n\n\n\nSuperquaich is a less formal Scottish cyclocross race series with a separate woman’s race along with two mens races. So\, no matter your CX age\, experience\, ability or competitiveness\, there is a race for you!And if you don’t fancy racing\, we could *really* do with your help. It’s going to be a very busy day!
URL:https://new.westlothianclarion.co.uk/event/linlithgow-cross
LOCATION:Xcite Linlithgow\, McGinley Way\, Linlithgow\, West Lothian\, EH49 6SQ\, United Kingdom
ATTACH;FMTTYPE=image/jpeg:https://new.westlothianclarion.co.uk/wp-content/uploads/2022/02/51855140672_c617e9d1ce_o-1-scaled.jpg
END:VEVENT
BEGIN:VEVENT
DTSTART;TZID=UTC:20230131T183000
DTEND;TZID=UTC:20230131T203000
DTSTAMP:20260421T100106
CREATED:20230127T084227Z
LAST-MODIFIED:20230127T084228Z
UID:2556-1675189800-1675197000@new.westlothianclarion.co.uk
SUMMARY:Gravel Ride - Linlithgow
DESCRIPTION:Meet at Linlithgow Health Centre car park at 6.30pm for an Abercorn loop
URL:https://new.westlothianclarion.co.uk/event/gravel-ride-linlithgow-4
LOCATION:Linlithgow Loch\, St Ninian's Way\, Linlithgow\, West Lothian\, EH49 7HL\, United Kingdom
ATTACH;FMTTYPE=image/png:https://new.westlothianclarion.co.uk/wp-content/uploads/2021/11/gravel-1.png
END:VEVENT
END:VCALENDAR